Package: COPDSexualDimorphism.data Version: 1.43.0 Command: /home/biocbuild/bbs-3.21-bioc/R/bin/R CMD check --install=check:COPDSexualDimorphism.data.install-out.txt --library=/home/biocbuild/bbs-3.21-bioc/R/site-library --timings COPDSexualDimorphism.data_1.43.0.tar.gz StartedAt: 2025-02-13 11:54:14 -0500 (Thu, 13 Feb 2025) EndedAt: 2025-02-13 11:55:24 -0500 (Thu, 13 Feb 2025) EllapsedTime: 69.6 seconds RetCode: 0 Status: WARNINGS CheckDir: COPDSexualDimorphism.data.Rcheck Warnings: 1