Package: CONFESSdata Version: 1.37.0 Command: /home/biocbuild/bbs-3.22-bioc/R/bin/R CMD build --keep-empty-dirs --no-resave-data CONFESSdata StartedAt: 2025-07-22 11:11:28 -0400 (Tue, 22 Jul 2025) EndedAt: 2025-07-22 11:12:02 -0400 (Tue, 22 Jul 2025) EllapsedTime: 34.3 seconds RetCode: 0 Status: OK PackageFile: CONFESSdata_1.37.0.tar.gz PackageFileSize: 9.832 MiB