Package: CLLmethylation Version: 1.29.0 Command: /home/biocbuild/bbs-3.22-bioc/R/bin/R CMD INSTALL CLLmethylation StartedAt: 2025-07-22 10:59:42 -0400 (Tue, 22 Jul 2025) EndedAt: 2025-07-22 11:00:03 -0400 (Tue, 22 Jul 2025) EllapsedTime: 20.5 seconds RetCode: 0 Status: OK