Package: CLL Version: 1.47.0 Command: /home/biocbuild/bbs-3.21-bioc/R/bin/R CMD build --keep-empty-dirs --no-resave-data CLL StartedAt: 2025-01-30 11:09:59 -0500 (Thu, 30 Jan 2025) EndedAt: 2025-01-30 11:10:03 -0500 (Thu, 30 Jan 2025) EllapsedTime: 4.0 seconds RetCode: 0 Status: OK PackageFile: CLL_1.47.0.tar.gz PackageFileSize: 15.89 MiB