Package: CENTREprecomputed Version: 0.99.3 Command: /home/biocbuild/bbs-3.22-bioc/R/bin/R CMD check --install=check:CENTREprecomputed.install-out.txt --library=/home/biocbuild/bbs-3.22-bioc/R/site-library --timings CENTREprecomputed_0.99.3.tar.gz StartedAt: 2025-10-02 12:05:44 -0400 (Thu, 02 Oct 2025) EndedAt: 2025-10-02 12:07:49 -0400 (Thu, 02 Oct 2025) EllapsedTime: 125.0 seconds RetCode: 0 Status: OK CheckDir: CENTREprecomputed.Rcheck Warnings: 0