Package: CCl4 Version: 1.47.0 Command: /home/biocbuild/bbs-3.22-bioc/R/bin/R CMD check --install=check:CCl4.install-out.txt --library=/home/biocbuild/bbs-3.22-bioc/R/site-library --timings CCl4_1.47.0.tar.gz StartedAt: 2025-10-02 12:04:28 -0400 (Thu, 02 Oct 2025) EndedAt: 2025-10-02 12:06:02 -0400 (Thu, 02 Oct 2025) EllapsedTime: 93.9 seconds RetCode: 0 Status: WARNINGS CheckDir: CCl4.Rcheck Warnings: 1