Package: BloodCancerMultiOmics2017 Version: 1.29.0 Command: /home/biocbuild/bbs-3.22-bioc/R/bin/R CMD INSTALL BloodCancerMultiOmics2017 StartedAt: 2025-07-17 10:59:34 -0400 (Thu, 17 Jul 2025) EndedAt: 2025-07-17 11:00:22 -0400 (Thu, 17 Jul 2025) EllapsedTime: 47.6 seconds RetCode: 0 Status: OK