Package: BloodCancerMultiOmics2017 Version: 1.29.0 Command: /home/biocbuild/bbs-3.22-bioc/R/bin/R CMD build --keep-empty-dirs --no-resave-data BloodCancerMultiOmics2017 StartedAt: 2025-07-17 11:07:44 -0400 (Thu, 17 Jul 2025) EndedAt: 2025-07-17 11:37:46 -0400 (Thu, 17 Jul 2025) EllapsedTime: 1802.2 seconds RetCode: 0 Status: OK PackageFile: BloodCancerMultiOmics2017_1.29.0.tar.gz PackageFileSize: 53.69 MiB