Package: BeadSorted.Saliva.EPIC Version: 1.17.0 Command: /home/biocbuild/bbs-3.22-bioc/R/bin/R CMD check --install=check:BeadSorted.Saliva.EPIC.install-out.txt --library=/home/biocbuild/bbs-3.22-bioc/R/site-library --timings BeadSorted.Saliva.EPIC_1.17.0.tar.gz StartedAt: 2025-10-16 12:01:44 -0400 (Thu, 16 Oct 2025) EndedAt: 2025-10-16 12:06:52 -0400 (Thu, 16 Oct 2025) EllapsedTime: 308.6 seconds RetCode: 0 Status: OK CheckDir: BeadSorted.Saliva.EPIC.Rcheck Warnings: 0