Package: BeadArrayUseCases Version: 1.45.1 Command: /home/biocbuild/bbs-3.21-bioc/R/bin/R CMD INSTALL BeadArrayUseCases StartedAt: 2025-02-18 10:59:28 -0500 (Tue, 18 Feb 2025) EndedAt: 2025-02-18 10:59:48 -0500 (Tue, 18 Feb 2025) EllapsedTime: 20.5 seconds RetCode: 0 Status: OK