Package: AssessORFData Version: 1.27.0 Command: /home/biocbuild/bbs-3.22-bioc/R/bin/R CMD INSTALL AssessORFData StartedAt: 2025-07-17 10:56:37 -0400 (Thu, 17 Jul 2025) EndedAt: 2025-07-17 10:57:21 -0400 (Thu, 17 Jul 2025) EllapsedTime: 44.0 seconds RetCode: 0 Status: OK