Package: AmpAffyExample Version: 1.47.0 Command: /home/biocbuild/bbs-3.21-bioc/R/bin/R CMD INSTALL AmpAffyExample StartedAt: 2025-01-30 10:56:34 -0500 (Thu, 30 Jan 2025) EndedAt: 2025-01-30 10:56:38 -0500 (Thu, 30 Jan 2025) EllapsedTime: 3.9 seconds RetCode: 0 Status: OK