Package: AmpAffyExample Version: 1.47.0 Command: /home/biocbuild/bbs-3.21-bioc/R/bin/R CMD build --keep-empty-dirs --no-resave-data AmpAffyExample StartedAt: 2025-01-30 11:07:21 -0500 (Thu, 30 Jan 2025) EndedAt: 2025-01-30 11:07:23 -0500 (Thu, 30 Jan 2025) EllapsedTime: 2.3 seconds RetCode: 0 Status: OK PackageFile: AmpAffyExample_1.47.0.tar.gz PackageFileSize: 6.464 MiB