Package: AWAggregatorData Version: 1.1.0 Command: /home/biocbuild/bbs-3.23-bioc/R/bin/R CMD check --install=check:AWAggregatorData.install-out.txt --library=/home/biocbuild/bbs-3.23-bioc/R/site-library --timings AWAggregatorData_1.1.0.tar.gz StartedAt: 2025-11-13 12:02:37 -0500 (Thu, 13 Nov 2025) EndedAt: 2025-11-13 12:04:52 -0500 (Thu, 13 Nov 2025) EllapsedTime: 134.9 seconds RetCode: 0 Status: OK CheckDir: AWAggregatorData.Rcheck Warnings: 0