Package: ALL Version: 1.51.0 Command: /home/biocbuild/bbs-3.22-bioc/R/bin/R CMD INSTALL ALL StartedAt: 2025-07-24 10:56:14 -0400 (Thu, 24 Jul 2025) EndedAt: 2025-07-24 10:56:18 -0400 (Thu, 24 Jul 2025) EllapsedTime: 3.7 seconds RetCode: 0 Status: OK