Welcome to mirrors.dotsrc.org

All our mirrors of open source software are available via http, https, ftp and an onion service. More information about our mirrors including statistics and contact information is available on our mirror info pages.

For information about dotsrc.org and our other services please go to our website.

Index of /bioconductor/checkResults/devel/data-experiment-LATEST/

File Name  ↓ File Size  ↓ Date  ↓ 
--
-2025-09-30 19:41:35
-2025-09-30 19:41:36
-2025-09-30 19:41:36
-2025-09-30 19:41:36
-2025-09-30 19:41:36
-2025-09-30 19:41:35
-2025-09-30 19:41:35
-2025-09-30 19:41:35
-2025-09-30 19:41:35
-2025-09-30 19:41:35
-2025-09-30 19:41:36
-2025-09-30 19:41:36
-2025-09-30 19:41:36
-2025-09-30 19:41:36
-2025-09-30 19:41:36
-2025-09-30 19:41:36
-2025-09-30 19:41:36
-2025-09-30 19:41:36
-2025-09-30 19:41:36
-2025-09-30 19:41:36
-2025-09-30 19:41:36
-2025-09-30 19:41:36
-2025-09-30 19:41:36
-2025-09-30 19:41:36
-2025-09-30 19:41:36
-2025-09-30 19:41:36
-2025-09-30 19:41:36
-2025-09-30 19:41:36
-2025-09-30 19:41:36
-2025-09-30 19:41:36
-2025-09-30 19:41:36
-2025-09-30 19:41:36
-2025-09-30 19:41:36
-2025-09-30 19:41:36
-2025-09-30 19:41:36
-2025-09-30 19:41:36
-2025-09-30 19:41:36
-2025-09-30 19:41:36
-2025-09-30 19:41:36
-2025-09-30 19:41:36
-2025-09-30 19:41:36
-2025-09-30 19:41:36
-2025-09-30 19:41:36
-2025-09-30 19:41:36
-2025-09-30 19:41:36
-2025-09-30 19:41:36
-2025-09-30 19:41:36
-2025-09-30 19:41:36
-2025-09-30 19:41:36
-2025-09-30 19:41:36
-2025-09-30 19:41:36
-2025-09-30 19:41:36
-2025-09-30 19:41:36
-2025-09-30 19:41:36
-2025-09-30 19:41:36
-2025-09-30 19:41:36
-2025-09-30 19:41:36
-2025-09-30 19:41:36
-2025-09-30 19:41:36
-2025-09-30 19:41:36
-2025-09-30 19:41:36
-2025-09-30 19:41:36
-2025-09-30 19:41:36
-2025-09-30 19:41:36
-2025-09-30 19:41:36
-2025-09-30 19:41:36
-2025-09-30 19:41:36
-2025-09-30 19:41:36
-2025-09-30 19:41:36
-2025-09-30 19:41:36
-2025-09-30 19:41:36
-2025-09-30 19:41:36
-2025-09-30 19:41:36
-2025-09-30 19:41:36
-2025-09-30 19:41:36
-2025-09-30 19:41:36
-2025-09-30 19:41:36
-2025-09-30 19:41:36
-2025-09-30 19:41:36
-2025-09-30 19:41:36
-2025-09-30 19:41:36
-2025-09-30 19:41:36
-2025-09-30 19:41:36
-2025-09-30 19:41:36
-2025-09-30 19:41:36
-2025-09-30 19:41:36
-2025-09-30 19:41:36
-2025-09-30 19:41:36
-2025-09-30 19:41:36
-2025-09-30 19:41:36
-2025-09-30 19:41:36
-2025-09-30 19:41:36
-2025-09-30 19:41:36
-2025-09-30 19:41:36
-2025-09-30 19:41:36
-2025-09-30 19:41:36
-2025-09-30 19:41:36
-2025-09-30 19:41:36
-2025-09-30 19:41:36
-2025-09-30 19:41:36
-2025-09-30 19:41:36
-2025-09-30 19:41:36
-2025-09-30 19:41:36
-2025-09-30 19:41:36
-2025-09-30 19:41:36
-2025-09-30 19:41:36
-2025-09-30 19:41:36
-2025-09-30 19:41:36
-2025-09-30 19:41:36
-2025-09-30 19:41:36
-2025-09-30 19:41:36
-2025-09-30 19:41:36
-2025-09-30 19:41:36
-2025-09-30 19:41:36
-2025-09-30 19:41:36
-2025-09-30 19:41:36
-2025-09-30 19:41:36
-2025-09-30 19:41:36
-2025-09-30 19:41:36
-2025-09-30 19:41:36
-2025-09-30 19:41:36
-2025-09-30 19:41:36
-2025-09-30 19:41:36
-2025-09-30 19:41:36
-2025-09-30 19:41:36
-2025-09-30 19:41:36
-2025-09-30 19:41:36
-2025-09-30 19:41:36
-2025-09-30 19:41:36
-2025-09-30 19:41:36
-2025-09-30 19:41:36
-2025-09-30 19:41:36
-2025-09-30 19:41:36
-2025-09-30 19:41:36
-2025-09-30 19:41:36
-2025-09-30 19:41:36
-2025-09-30 19:41:36
-2025-09-30 19:41:36
-2025-09-30 19:41:36
-2025-09-30 19:41:36
-2025-09-30 19:41:36
-2025-09-30 19:41:36
-2025-09-30 19:41:36
-2025-09-30 19:41:36
-2025-09-30 19:41:36
-2025-09-30 19:41:36
-2025-09-30 19:41:36
-2025-09-30 19:41:36
-2025-09-30 19:41:36
-2025-09-30 19:41:36
-2025-09-30 19:41:36
-2025-09-30 19:41:36
-2025-09-30 19:41:36
-2025-09-30 19:41:36
-2025-09-30 19:41:36
-2025-09-30 19:41:36
-2025-09-30 19:41:36
-2025-09-30 19:41:36
-2025-09-30 19:41:36
-2025-09-30 19:41:36
-2025-09-30 19:41:36
-2025-09-30 19:41:36
-2025-09-30 19:41:36
-2025-09-30 19:41:36
-2025-09-30 19:41:37
-2025-09-30 19:41:37
-2025-09-30 19:41:37
-2025-09-30 19:41:37
-2025-09-30 19:41:37
-2025-09-30 19:41:37
-2025-09-30 19:41:37
-2025-09-30 19:41:37
-2025-09-30 19:41:37
-2025-09-30 19:41:37
-2025-09-30 19:41:37
-2025-09-30 19:41:36
-2025-09-30 19:41:36
-2025-09-30 19:41:36
-2025-09-30 19:41:36
-2025-09-30 19:41:36
-2025-09-30 19:41:36
-2025-09-30 19:41:37
-2025-09-30 19:41:37
-2025-09-30 19:41:37
-2025-09-30 19:41:36
-2025-09-30 19:41:37
-2025-09-30 19:41:37
-2025-09-30 19:41:37
-2025-09-30 19:41:37
-2025-09-30 19:41:37
-2025-09-30 19:41:37
-2025-09-30 19:41:37
-2025-09-30 19:41:37
-2025-09-30 19:41:37
-2025-09-30 19:41:37
-2025-09-30 19:41:37
-2025-09-30 19:41:37
-2025-09-30 19:41:37
-2025-09-30 19:41:37
-2025-09-30 19:41:37
-2025-09-30 19:41:37
-2025-09-30 19:41:37
-2025-09-30 19:41:37
-2025-09-30 19:41:37
-2025-09-30 19:41:37
-2025-09-30 19:41:37
-2025-09-30 19:41:37
-2025-09-30 19:41:37
-2025-09-30 19:41:37
-2025-09-30 19:41:37
-2025-09-30 19:41:37
-2025-09-30 19:41:37
-2025-09-30 19:41:37
-2025-09-30 19:41:37
-2025-09-30 19:41:37
-2025-09-30 19:41:37
-2025-09-30 19:41:37
-2025-09-30 19:41:37
-2025-09-30 19:41:37
-2025-09-30 19:41:37
-2025-09-30 19:41:37
-2025-09-30 19:41:37
-2025-09-30 19:41:37
-2025-09-30 19:41:37
-2025-09-30 19:41:37
-2025-09-30 19:41:37
-2025-09-30 19:41:37
-2025-09-30 19:41:37
-2025-09-30 19:41:37
-2025-09-30 19:41:35
-2025-09-30 19:41:35
-2025-09-30 19:41:35
-2025-09-30 19:41:35
-2025-09-30 19:41:36
-2025-09-30 19:41:36
-2025-09-30 19:41:36
-2025-09-30 19:41:36
-2025-04-08 19:35:03
-2025-09-30 19:41:36
-2025-09-30 19:41:36
-2025-09-30 19:41:36
-2025-09-30 19:41:36
-2025-09-30 19:41:36
-2025-09-30 19:41:36
-2025-09-30 19:41:36
-2025-09-30 19:41:36
-2025-09-30 19:41:36
-2025-09-30 19:41:36
-2025-09-30 19:41:36
-2025-09-30 19:41:36
-2025-09-30 19:41:36
-2025-09-30 19:41:36
-2025-09-30 19:41:36
-2025-09-30 19:41:36
-2025-09-30 19:41:36
-2025-09-30 19:41:36
-2025-09-30 19:41:36
-2025-09-30 19:41:36
-2025-09-30 19:41:36
-2025-09-30 19:41:36
-2025-09-30 19:41:36
-2025-09-30 19:41:36
-2025-09-30 19:41:36
-2025-09-30 19:41:36
-2025-09-30 19:41:36
-2025-09-30 19:41:36
-2025-09-30 19:41:36
-2025-09-30 19:41:36
-2025-09-30 19:41:36
-2025-09-30 19:41:36
-2025-09-30 19:41:36
-2025-09-30 19:41:36
-2025-09-30 19:41:36
-2025-09-30 19:41:36
-2025-09-30 19:41:36
-2025-09-30 19:41:36
-2025-09-30 19:41:36
-2025-09-30 19:41:36
-2025-09-30 19:41:36
-2025-09-30 19:41:36
-2025-09-30 19:41:36
-2025-09-30 19:41:36
-2025-09-30 19:41:36
-2025-09-30 19:41:36
-2025-09-30 19:41:36
-2025-09-30 19:41:36
-2025-09-30 19:41:36
-2025-09-30 19:41:36
-2025-09-30 19:41:36
-2025-09-30 19:41:36
-2025-09-30 19:41:36
-2025-09-30 19:41:36
-2025-09-30 19:41:36
-2025-09-30 19:41:36
-2025-09-30 19:41:36
-2025-09-30 19:41:36
-2025-09-30 19:41:36
-2025-09-30 19:41:36
-2025-09-30 19:41:36
-2025-09-30 19:41:36
-2025-09-30 19:41:36
-2025-09-30 19:41:36
-2025-09-30 19:41:36
-2025-09-30 19:41:36
-2025-09-30 19:41:36
-2025-09-30 19:41:36
-2025-09-30 19:41:36
-2025-09-30 19:41:36
-2025-09-30 19:41:36
-2025-09-30 19:41:36
-2025-09-30 19:41:36
-2025-09-30 19:41:36
-2025-09-30 19:41:36
-2025-09-30 19:41:36
-2025-09-30 19:41:36
-2025-09-30 19:41:36
-2025-09-30 19:41:36
-2025-09-30 19:41:36
-2025-09-30 19:41:36
-2025-09-30 19:41:36
-2025-09-30 19:41:36
-2025-09-30 19:41:36
-2025-09-30 19:41:36
-2025-09-30 19:41:36
-2025-09-30 19:41:36
-2025-09-30 19:41:36
-2025-09-30 19:41:36
-2025-09-30 19:41:36
-2025-09-30 19:41:36
-2025-09-30 19:41:36
-2025-09-30 19:41:36
-2025-09-30 19:41:36
-2025-09-30 19:41:36
-2025-09-30 19:41:36
-2025-09-30 19:41:36
-2025-09-30 19:41:36
-2025-09-30 19:41:36
-2025-09-30 19:41:36
-2025-09-30 19:41:36
-2025-09-30 19:41:36
-2025-09-30 19:41:36
-2025-09-30 19:41:36
-2025-09-30 19:41:36
-2025-09-30 19:41:36
-2025-09-30 19:41:36
-2025-09-30 19:41:36
-2025-09-30 19:41:36
-2025-09-30 19:41:36
-2025-09-30 19:41:36
-2025-09-30 19:41:36
-2025-09-30 19:41:36
-2025-09-30 19:41:36
-2025-09-30 19:41:36
-2025-09-30 19:41:36
-2025-09-30 19:41:36
-2025-09-30 19:41:36
-2025-09-30 19:41:36
-2025-09-30 19:41:36
-2025-09-30 19:41:36
-2025-09-30 19:41:36
-2025-09-30 19:41:36
-2025-09-30 19:41:36
-2025-09-30 19:41:36
-2025-09-30 19:41:36
-2025-09-30 19:41:36
-2025-09-30 19:41:36
-2025-09-30 19:41:36
-2025-09-30 19:41:36
-2025-09-30 19:41:36
-2025-09-30 19:41:36
-2025-09-30 19:41:36
-2025-09-30 19:41:36
-2025-09-30 19:41:36
-2025-09-30 19:41:36
-2025-09-30 19:41:36
-2025-04-08 19:35:04
-2025-09-30 19:41:36
-2025-09-30 19:41:36
-2025-09-30 19:41:36
-2025-09-30 19:41:36
-2025-09-30 19:41:36
-2025-09-30 19:41:36
-2025-09-30 19:41:36
-2025-09-30 19:41:36
-2025-09-30 19:41:36
-2025-09-30 19:41:36
-2025-09-30 19:41:36
-2025-09-30 19:41:36
-2025-09-30 19:41:36
-2025-09-30 19:41:36
-2025-09-30 19:41:36
-2025-09-30 19:41:37
-2025-09-30 19:41:36
-2025-09-30 19:41:36
-2025-09-30 19:41:36
-2025-09-30 19:41:37
-2025-09-30 19:41:37
-2025-09-30 19:41:37
-2025-09-30 19:41:37
-2025-09-30 19:41:37
-2025-09-30 19:41:37
-2025-09-30 19:41:37
-2025-09-30 19:41:37
-2025-09-30 19:41:37
-2025-09-30 19:41:37
-2025-09-30 19:41:37
-2025-09-30 19:41:37
-2025-09-30 19:41:37
-2025-09-30 19:41:37
-2025-09-30 19:41:37
-2025-09-30 19:41:37
-2025-09-30 19:41:37
-2025-09-30 19:41:37
-2025-09-30 19:41:37
-2025-09-30 19:41:37
-2025-09-30 19:41:37
-2025-04-08 19:35:04
-2025-09-30 19:41:37
-2025-09-30 19:41:37
-2025-09-30 19:41:37
-2025-09-30 19:41:37
-2025-09-30 19:41:37
-2025-09-30 19:41:37
-2025-09-30 19:41:37
-2025-09-30 19:41:37
-2025-09-30 19:41:37
-2025-09-30 19:41:37
-2025-09-30 19:41:37
-2025-09-30 19:41:37
-2025-09-30 19:41:37
-2025-09-30 19:41:37
-2025-09-30 19:41:37
-2025-09-30 19:41:37
-2025-09-30 19:41:37
-2025-09-30 19:41:37
-2025-09-30 19:41:37
7.1 KiB2025-09-30 19:41:35
7.1 KiB2025-09-30 19:41:35
7.0 KiB2025-09-30 19:41:35
47.3 KiB2025-09-30 19:41:35
2.6 KiB2025-09-30 19:41:35
31.4 KiB2025-09-30 19:41:35
3.4 KiB2025-09-30 19:41:35
599.6 KiB2025-09-30 19:41:37
46.5 KiB2025-09-30 19:41:35
7.4 KiB2025-09-30 19:41:35
530.6 KiB2025-09-30 19:41:35
11.9 KiB2025-09-30 19:41:35
6.0 KiB2025-09-30 19:41:35
1.1 MiB2025-09-30 19:41:39
0 B2025-09-30 19:41:35