Package: synaptome.db Version: 0.99.17 Command: /home/biocbuild/bbs-3.22-bioc/R/bin/R CMD check --install=check:synaptome.db.install-out.txt --library=/home/biocbuild/bbs-3.22-bioc/R/site-library --timings synaptome.db_0.99.17.tar.gz StartedAt: 2025-10-15 06:00:46 -0400 (Wed, 15 Oct 2025) EndedAt: 2025-10-15 06:05:59 -0400 (Wed, 15 Oct 2025) EllapsedTime: 312.6 seconds RetCode: 0 Status: WARNINGS CheckDir: synaptome.db.Rcheck Warnings: 1