Package: synaptome.data Version: 0.99.6 Command: /home/biocbuild/bbs-3.23-bioc/R/bin/R CMD INSTALL synaptome.data StartedAt: 2025-11-26 06:00:12 -0500 (Wed, 26 Nov 2025) EndedAt: 2025-11-26 06:00:25 -0500 (Wed, 26 Nov 2025) EllapsedTime: 12.7 seconds RetCode: 0 Status: OK