Package: synaptome.data Version: 0.99.6 Command: /home/biocbuild/bbs-3.23-bioc/R/bin/R CMD build --keep-empty-dirs --no-resave-data synaptome.data StartedAt: 2025-11-26 06:02:50 -0500 (Wed, 26 Nov 2025) EndedAt: 2025-11-26 06:03:06 -0500 (Wed, 26 Nov 2025) EllapsedTime: 16.4 seconds RetCode: 0 Status: OK PackageFile: synaptome.data_0.99.6.tar.gz PackageFileSize: 302.7 KiB