Package: rat2302frmavecs Version: 0.99.11 Command: /home/biocbuild/bbs-3.21-bioc/R/bin/R CMD INSTALL rat2302frmavecs StartedAt: 2025-02-05 06:30:15 -0500 (Wed, 05 Feb 2025) EndedAt: 2025-02-05 06:30:16 -0500 (Wed, 05 Feb 2025) EllapsedTime: 0.4 seconds RetCode: 1 Status: ERROR