############################################################################## ############################################################################## ### ### Running command: ### ### /home/biocbuild/bbs-3.21-bioc/R/bin/R CMD INSTALL rat2302frmavecs ### ############################################################################## ############################################################################## * installing to library ‘/home/biocbuild/bbs-3.21-bioc/R/site-library’ ERROR: dependency ‘frma’ is not available for package ‘rat2302frmavecs’ Perhaps try a variation of: install.packages('frma') * removing ‘/home/biocbuild/bbs-3.21-bioc/R/site-library/rat2302frmavecs’