Package: rat2302frmavecs Version: 0.99.11 Command: /home/biocbuild/bbs-3.21-bioc/R/bin/R CMD build --keep-empty-dirs --no-resave-data rat2302frmavecs StartedAt: 2025-02-05 06:32:15 -0500 (Wed, 05 Feb 2025) EndedAt: 2025-02-05 06:32:16 -0500 (Wed, 05 Feb 2025) EllapsedTime: 1.6 seconds RetCode: 1 Status: ERROR PackageFile: None PackageFileSize: NA