############################################################################## ############################################################################## ### ### Running command: ### ### /home/biocbuild/bbs-3.21-bioc/R/bin/R CMD build --keep-empty-dirs --no-resave-data rat2302frmavecs ### ############################################################################## ############################################################################## * checking for file ‘rat2302frmavecs/DESCRIPTION’ ... OK * preparing ‘rat2302frmavecs’: * checking DESCRIPTION meta-information ... OK * installing the package to build vignettes ----------------------------------- ERROR: dependency ‘frma’ is not available for package ‘rat2302frmavecs’ Perhaps try a variation of: install.packages('frma') * removing ‘/tmp/Rtmp8uls0c/Rinst257443296813cc/rat2302frmavecs’ ----------------------------------- ERROR: package installation failed