Package: phastCons30way.UCSC.hg38 Version: 3.13.0 Command: /home/biocbuild/bbs-3.21-bioc/R/bin/R CMD INSTALL phastCons30way.UCSC.hg38 StartedAt: 2025-02-05 06:30:20 -0500 (Wed, 05 Feb 2025) EndedAt: 2025-02-05 06:30:38 -0500 (Wed, 05 Feb 2025) EllapsedTime: 17.2 seconds RetCode: 0 Status: OK