Package: phastCons30way.UCSC.hg38 Version: 3.13.0 Command: /home/biocbuild/bbs-3.21-bioc/R/bin/R CMD check --install=check:phastCons30way.UCSC.hg38.install-out.txt --library=/home/biocbuild/bbs-3.21-bioc/R/site-library --timings phastCons30way.UCSC.hg38_3.13.0.tar.gz StartedAt: 2025-02-05 06:34:41 -0500 (Wed, 05 Feb 2025) EndedAt: 2025-02-05 06:35:42 -0500 (Wed, 05 Feb 2025) EllapsedTime: 61.6 seconds RetCode: 1 Status: ERROR CheckDir: phastCons30way.UCSC.hg38.Rcheck Warnings: NA