Package: org.Mxanthus.db Version: 1.0.27 Command: /home/biocbuild/bbs-3.22-bioc/R/bin/R CMD build --keep-empty-dirs --no-resave-data org.Mxanthus.db StartedAt: 2025-10-01 05:57:13 -0400 (Wed, 01 Oct 2025) EndedAt: 2025-10-01 05:57:48 -0400 (Wed, 01 Oct 2025) EllapsedTime: 35.1 seconds RetCode: 0 Status: OK PackageFile: org.Mxanthus.db_1.0.27.tar.gz PackageFileSize: 437.3 KiB