Package: org.Mxanthus.db Version: 1.0.27 Command: /home/biocbuild/bbs-3.23-bioc/R/bin/R CMD INSTALL org.Mxanthus.db StartedAt: 2025-11-26 06:00:11 -0500 (Wed, 26 Nov 2025) EndedAt: 2025-11-26 06:00:28 -0500 (Wed, 26 Nov 2025) EllapsedTime: 17.8 seconds RetCode: 0 Status: OK