Package: org.Mxanthus.db Version: 1.0.27 Command: /home/biocbuild/bbs-3.23-bioc/R/bin/R CMD build --keep-empty-dirs --no-resave-data org.Mxanthus.db StartedAt: 2025-11-26 06:02:45 -0500 (Wed, 26 Nov 2025) EndedAt: 2025-11-26 06:03:20 -0500 (Wed, 26 Nov 2025) EllapsedTime: 35.7 seconds RetCode: 0 Status: OK PackageFile: org.Mxanthus.db_1.0.27.tar.gz PackageFileSize: 461.4 KiB