Package: org.Hbacteriophora.eg.db Version: 0.99.1 Command: /home/biocbuild/bbs-3.23-bioc/R/bin/R CMD INSTALL org.Hbacteriophora.eg.db StartedAt: 2025-11-26 06:00:09 -0500 (Wed, 26 Nov 2025) EndedAt: 2025-11-26 06:00:20 -0500 (Wed, 26 Nov 2025) EllapsedTime: 11.3 seconds RetCode: 0 Status: OK