Package: ontoProcData Version: 0.99.9904 Command: /home/biocbuild/bbs-3.21-bioc/R/bin/R CMD check --install=check:ontoProcData.install-out.txt --library=/home/biocbuild/bbs-3.21-bioc/R/site-library --timings ontoProcData_0.99.9904.tar.gz StartedAt: 2025-02-12 06:34:31 -0500 (Wed, 12 Feb 2025) EndedAt: 2025-02-12 06:34:46 -0500 (Wed, 12 Feb 2025) EllapsedTime: 14.9 seconds RetCode: 1 Status: ERROR CheckDir: ontoProcData.Rcheck Warnings: NA