Package: metaboliteIDmapping Version: 0.99.10 Command: /home/biocbuild/bbs-3.21-bioc/R/bin/R CMD check --install=check:metaboliteIDmapping.install-out.txt --library=/home/biocbuild/bbs-3.21-bioc/R/site-library --timings metaboliteIDmapping_0.99.10.tar.gz StartedAt: 2025-02-05 06:34:29 -0500 (Wed, 05 Feb 2025) EndedAt: 2025-02-05 06:43:18 -0500 (Wed, 05 Feb 2025) EllapsedTime: 529.3 seconds RetCode: 1 Status: ERROR CheckDir: metaboliteIDmapping.Rcheck Warnings: NA