Package: hpAnnot Version: 1.1.1 Command: /home/biocbuild/bbs-3.22-bioc/R/bin/R CMD check --install=check:hpAnnot.install-out.txt --library=/home/biocbuild/bbs-3.22-bioc/R/site-library --timings hpAnnot_1.1.1.tar.gz StartedAt: 2025-10-22 06:00:53 -0400 (Wed, 22 Oct 2025) EndedAt: 2025-10-22 06:01:55 -0400 (Wed, 22 Oct 2025) EllapsedTime: 62.0 seconds RetCode: 0 Status: OK CheckDir: hpAnnot.Rcheck Warnings: 0