Package: gwascatData Version: 0.99.6 Command: /home/biocbuild/bbs-3.21-bioc/R/bin/R CMD INSTALL gwascatData StartedAt: 2025-02-05 06:30:07 -0500 (Wed, 05 Feb 2025) EndedAt: 2025-02-05 06:30:10 -0500 (Wed, 05 Feb 2025) EllapsedTime: 2.8 seconds RetCode: 0 Status: OK