Package: excluderanges Version: 0.99.8 Command: /home/biocbuild/bbs-3.21-bioc/R/bin/R CMD INSTALL excluderanges StartedAt: 2025-02-05 06:30:07 -0500 (Wed, 05 Feb 2025) EndedAt: 2025-02-05 06:30:15 -0500 (Wed, 05 Feb 2025) EllapsedTime: 8.3 seconds RetCode: 0 Status: OK