Package: excluderanges Version: 0.99.8 Command: /home/biocbuild/bbs-3.21-bioc/R/bin/R CMD build --keep-empty-dirs --no-resave-data excluderanges StartedAt: 2025-02-05 06:31:25 -0500 (Wed, 05 Feb 2025) EndedAt: 2025-02-05 06:32:12 -0500 (Wed, 05 Feb 2025) EllapsedTime: 47.5 seconds RetCode: 1 Status: ERROR PackageFile: None PackageFileSize: NA