Package: cadd.v1.6.hg38 Version: 3.18.1 Command: /home/biocbuild/bbs-3.21-bioc/R/bin/R CMD check --install=check:cadd.v1.6.hg38.install-out.txt --library=/home/biocbuild/bbs-3.21-bioc/R/site-library --timings cadd.v1.6.hg38_3.18.1.tar.gz StartedAt: 2025-02-05 06:33:36 -0500 (Wed, 05 Feb 2025) EndedAt: 2025-02-05 06:35:11 -0500 (Wed, 05 Feb 2025) EllapsedTime: 95.2 seconds RetCode: 0 Status: OK CheckDir: cadd.v1.6.hg38.Rcheck Warnings: 0