Package: cadd.v1.6.hg19 Version: 3.18.1 Command: /home/biocbuild/bbs-3.21-bioc/R/bin/R CMD INSTALL cadd.v1.6.hg19 StartedAt: 2025-02-05 06:30:15 -0500 (Wed, 05 Feb 2025) EndedAt: 2025-02-05 06:30:32 -0500 (Wed, 05 Feb 2025) EllapsedTime: 16.9 seconds RetCode: 0 Status: OK