Package: UniProtKeywords Version: 0.99.7 Command: /home/biocbuild/bbs-3.22-bioc/R/bin/R CMD INSTALL UniProtKeywords StartedAt: 2025-07-16 06:30:07 -0400 (Wed, 16 Jul 2025) EndedAt: 2025-07-16 06:30:09 -0400 (Wed, 16 Jul 2025) EllapsedTime: 2.4 seconds RetCode: 0 Status: OK