Package: UCSCRepeatMasker Version: 3.17.3 Command: /home/biocbuild/bbs-3.22-bioc/R/bin/R CMD check --install=check:UCSCRepeatMasker.install-out.txt --library=/home/biocbuild/bbs-3.22-bioc/R/site-library --timings UCSCRepeatMasker_3.17.3.tar.gz StartedAt: 2025-10-15 06:00:50 -0400 (Wed, 15 Oct 2025) EndedAt: 2025-10-15 06:04:45 -0400 (Wed, 15 Oct 2025) EllapsedTime: 235.0 seconds RetCode: 1 Status: ERROR CheckDir: UCSCRepeatMasker.Rcheck Warnings: NA