Package: TENET.AnnotationHub Version: 1.1.0 Command: /home/biocbuild/bbs-3.23-bioc/R/bin/R CMD INSTALL TENET.AnnotationHub StartedAt: 2025-11-26 06:00:11 -0500 (Wed, 26 Nov 2025) EndedAt: 2025-11-26 06:00:18 -0500 (Wed, 26 Nov 2025) EllapsedTime: 7.1 seconds RetCode: 0 Status: OK