Package: TENET.AnnotationHub Version: 1.1.0 Command: /home/biocbuild/bbs-3.23-bioc/R/bin/R CMD build --keep-empty-dirs --no-resave-data TENET.AnnotationHub StartedAt: 2025-11-26 06:02:54 -0500 (Wed, 26 Nov 2025) EndedAt: 2025-11-26 06:03:53 -0500 (Wed, 26 Nov 2025) EllapsedTime: 58.3 seconds RetCode: 0 Status: OK PackageFile: TENET.AnnotationHub_1.1.0.tar.gz PackageFileSize: 268 KiB