Package: SomaScan.db Version: 0.99.10 Command: /home/biocbuild/bbs-3.23-bioc/R/bin/R CMD INSTALL SomaScan.db StartedAt: 2025-11-26 06:00:09 -0500 (Wed, 26 Nov 2025) EndedAt: 2025-11-26 06:00:22 -0500 (Wed, 26 Nov 2025) EllapsedTime: 13.1 seconds RetCode: 0 Status: OK