Package: SomaScan.db Version: 0.99.10 Command: /home/biocbuild/bbs-3.23-bioc/R/bin/R CMD check --install=check:SomaScan.db.install-out.txt --library=/home/biocbuild/bbs-3.23-bioc/R/site-library --timings SomaScan.db_0.99.10.tar.gz StartedAt: 2025-11-26 06:10:12 -0500 (Wed, 26 Nov 2025) EndedAt: 2025-11-26 06:13:03 -0500 (Wed, 26 Nov 2025) EllapsedTime: 170.9 seconds RetCode: 0 Status: OK CheckDir: SomaScan.db.Rcheck Warnings: 0