Package: PANTHER.db Version: 1.0.12 Command: /home/biocbuild/bbs-3.21-bioc/R/bin/R CMD INSTALL PANTHER.db StartedAt: 2025-02-05 06:30:19 -0500 (Wed, 05 Feb 2025) EndedAt: 2025-02-05 06:30:37 -0500 (Wed, 05 Feb 2025) EllapsedTime: 18.8 seconds RetCode: 0 Status: OK