Package: PANTHER.db Version: 1.0.12 Command: /home/biocbuild/bbs-3.21-bioc/R/bin/R CMD check --install=check:PANTHER.db.install-out.txt --library=/home/biocbuild/bbs-3.21-bioc/R/site-library --timings PANTHER.db_1.0.12.tar.gz StartedAt: 2025-02-05 06:34:39 -0500 (Wed, 05 Feb 2025) EndedAt: 2025-02-05 06:37:13 -0500 (Wed, 05 Feb 2025) EllapsedTime: 153.4 seconds RetCode: 0 Status: OK CheckDir: PANTHER.db.Rcheck Warnings: 0