Package: MPO.db Version: 0.99.8 Command: /home/biocbuild/bbs-3.23-bioc/R/bin/R CMD INSTALL MPO.db StartedAt: 2025-11-26 06:00:22 -0500 (Wed, 26 Nov 2025) EndedAt: 2025-11-26 06:00:47 -0500 (Wed, 26 Nov 2025) EllapsedTime: 25.1 seconds RetCode: 0 Status: OK