Package: MPO.db Version: 0.99.8 Command: /home/biocbuild/bbs-3.23-bioc/R/bin/R CMD build --keep-empty-dirs --no-resave-data MPO.db StartedAt: 2025-11-26 06:02:39 -0500 (Wed, 26 Nov 2025) EndedAt: 2025-11-26 06:03:21 -0500 (Wed, 26 Nov 2025) EllapsedTime: 41.9 seconds RetCode: 0 Status: OK PackageFile: MPO.db_0.99.8.tar.gz PackageFileSize: 29.92 KiB