Package: JASPAR2020 Version: 0.99.8 Command: /home/biocbuild/bbs-3.22-bioc/R/bin/R CMD check --install=check:JASPAR2020.install-out.txt --library=/home/biocbuild/bbs-3.22-bioc/R/site-library --timings JASPAR2020_0.99.8.tar.gz StartedAt: 2025-10-15 05:59:39 -0400 (Wed, 15 Oct 2025) EndedAt: 2025-10-15 06:00:09 -0400 (Wed, 15 Oct 2025) EllapsedTime: 30.2 seconds RetCode: 1 Status: ERROR CheckDir: JASPAR2020.Rcheck Warnings: NA