Package: HPO.db Version: 0.99.2 Command: /home/biocbuild/bbs-3.21-bioc/R/bin/R CMD build --keep-empty-dirs --no-resave-data HPO.db StartedAt: 2025-02-05 06:31:53 -0500 (Wed, 05 Feb 2025) EndedAt: 2025-02-05 06:32:09 -0500 (Wed, 05 Feb 2025) EllapsedTime: 15.3 seconds RetCode: 1 Status: ERROR PackageFile: None PackageFileSize: NA