Package: GenomicState Version: 0.99.16 Command: /home/biocbuild/bbs-3.21-bioc/R/bin/R CMD INSTALL GenomicState StartedAt: 2025-02-05 06:30:21 -0500 (Wed, 05 Feb 2025) EndedAt: 2025-02-05 06:30:54 -0500 (Wed, 05 Feb 2025) EllapsedTime: 33.1 seconds RetCode: 0 Status: OK